BEGIN:VCALENDAR
VERSION:2.0
PRODID:-//The Barn at Allen Acres - ECPv6.15.20//NONSGML v1.0//EN
CALSCALE:GREGORIAN
METHOD:PUBLISH
X-ORIGINAL-URL:https://thebarnatallenacres.com
X-WR-CALDESC:Events for The Barn at Allen Acres
REFRESH-INTERVAL;VALUE=DURATION:PT1H
X-Robots-Tag:noindex
X-PUBLISHED-TTL:PT1H
BEGIN:VTIMEZONE
TZID:America/Chicago
BEGIN:DAYLIGHT
TZOFFSETFROM:-0600
TZOFFSETTO:-0500
TZNAME:CDT
DTSTART:20230312T080000
END:DAYLIGHT
BEGIN:STANDARD
TZOFFSETFROM:-0500
TZOFFSETTO:-0600
TZNAME:CST
DTSTART:20231105T070000
END:STANDARD
BEGIN:DAYLIGHT
TZOFFSETFROM:-0600
TZOFFSETTO:-0500
TZNAME:CDT
DTSTART:20240310T080000
END:DAYLIGHT
BEGIN:STANDARD
TZOFFSETFROM:-0500
TZOFFSETTO:-0600
TZNAME:CST
DTSTART:20241103T070000
END:STANDARD
BEGIN:DAYLIGHT
TZOFFSETFROM:-0600
TZOFFSETTO:-0500
TZNAME:CDT
DTSTART:20250309T080000
END:DAYLIGHT
BEGIN:STANDARD
TZOFFSETFROM:-0500
TZOFFSETTO:-0600
TZNAME:CST
DTSTART:20251102T070000
END:STANDARD
END:VTIMEZONE
BEGIN:VEVENT
DTSTART;TZID=America/Chicago:20241003T080000
DTEND;TZID=America/Chicago:20241006T170000
DTSTAMP:20260422T063027
CREATED:20230915T163230Z
LAST-MODIFIED:20231106T143841Z
UID:3122-1727942400-1728234000@thebarnatallenacres.com
SUMMARY:Wedding
DESCRIPTION:Sydney
URL:https://thebarnatallenacres.com/event/wedding-pending-76/
END:VEVENT
BEGIN:VEVENT
DTSTART;TZID=America/Chicago:20241010T080000
DTEND;TZID=America/Chicago:20241013T170000
DTSTAMP:20260422T063027
CREATED:20240227T014315Z
LAST-MODIFIED:20240327T184732Z
UID:3144-1728547200-1728838800@thebarnatallenacres.com
SUMMARY:Wedding
DESCRIPTION:Taylor
URL:https://thebarnatallenacres.com/event/wedding-pending-81/
END:VEVENT
END:VCALENDAR