BEGIN:VCALENDAR
VERSION:2.0
PRODID:-//The Barn at Allen Acres - ECPv6.15.20//NONSGML v1.0//EN
CALSCALE:GREGORIAN
METHOD:PUBLISH
X-WR-CALNAME:The Barn at Allen Acres
X-ORIGINAL-URL:https://thebarnatallenacres.com
X-WR-CALDESC:Events for The Barn at Allen Acres
REFRESH-INTERVAL;VALUE=DURATION:PT1H
X-Robots-Tag:noindex
X-PUBLISHED-TTL:PT1H
BEGIN:VTIMEZONE
TZID:America/Chicago
BEGIN:DAYLIGHT
TZOFFSETFROM:-0600
TZOFFSETTO:-0500
TZNAME:CDT
DTSTART:20230312T080000
END:DAYLIGHT
BEGIN:STANDARD
TZOFFSETFROM:-0500
TZOFFSETTO:-0600
TZNAME:CST
DTSTART:20231105T070000
END:STANDARD
BEGIN:DAYLIGHT
TZOFFSETFROM:-0600
TZOFFSETTO:-0500
TZNAME:CDT
DTSTART:20240310T080000
END:DAYLIGHT
BEGIN:STANDARD
TZOFFSETFROM:-0500
TZOFFSETTO:-0600
TZNAME:CST
DTSTART:20241103T070000
END:STANDARD
BEGIN:DAYLIGHT
TZOFFSETFROM:-0600
TZOFFSETTO:-0500
TZNAME:CDT
DTSTART:20250309T080000
END:DAYLIGHT
BEGIN:STANDARD
TZOFFSETFROM:-0500
TZOFFSETTO:-0600
TZNAME:CST
DTSTART:20251102T070000
END:STANDARD
END:VTIMEZONE
BEGIN:VEVENT
DTSTART;TZID=America/Chicago:20240704T080000
DTEND;TZID=America/Chicago:20240707T170000
DTSTAMP:20260422T045420
CREATED:20230424T144821Z
LAST-MODIFIED:20230424T144821Z
UID:3091-1720080000-1720371600@thebarnatallenacres.com
SUMMARY:Wedding
DESCRIPTION:Chelsi and Isaac
URL:https://thebarnatallenacres.com/event/wedding-45/
END:VEVENT
BEGIN:VEVENT
DTSTART;VALUE=DATE:20240713
DTEND;VALUE=DATE:20240715
DTSTAMP:20260422T045420
CREATED:20240517T174528Z
LAST-MODIFIED:20240517T174528Z
UID:3187-1720836000-1720922399@thebarnatallenacres.com
SUMMARY:Event pending
DESCRIPTION:angel
URL:https://thebarnatallenacres.com/event/event-pending/
END:VEVENT
BEGIN:VEVENT
DTSTART;TZID=America/Chicago:20240725T080000
DTEND;TZID=America/Chicago:20240728T170000
DTSTAMP:20260422T045420
CREATED:20231125T182126Z
LAST-MODIFIED:20231228T171015Z
UID:3127-1721894400-1722186000@thebarnatallenacres.com
SUMMARY:Wedding
DESCRIPTION:Henry
URL:https://thebarnatallenacres.com/event/wedding-48/
END:VEVENT
END:VCALENDAR