BEGIN:VCALENDAR
VERSION:2.0
PRODID:-//The Barn at Allen Acres - ECPv6.15.20//NONSGML v1.0//EN
CALSCALE:GREGORIAN
METHOD:PUBLISH
X-ORIGINAL-URL:https://thebarnatallenacres.com
X-WR-CALDESC:Events for The Barn at Allen Acres
REFRESH-INTERVAL;VALUE=DURATION:PT1H
X-Robots-Tag:noindex
X-PUBLISHED-TTL:PT1H
BEGIN:VTIMEZONE
TZID:America/Chicago
BEGIN:DAYLIGHT
TZOFFSETFROM:-0600
TZOFFSETTO:-0500
TZNAME:CDT
DTSTART:20200308T080000
END:DAYLIGHT
BEGIN:STANDARD
TZOFFSETFROM:-0500
TZOFFSETTO:-0600
TZNAME:CST
DTSTART:20201101T070000
END:STANDARD
BEGIN:DAYLIGHT
TZOFFSETFROM:-0600
TZOFFSETTO:-0500
TZNAME:CDT
DTSTART:20210314T080000
END:DAYLIGHT
BEGIN:STANDARD
TZOFFSETFROM:-0500
TZOFFSETTO:-0600
TZNAME:CST
DTSTART:20211107T070000
END:STANDARD
BEGIN:DAYLIGHT
TZOFFSETFROM:-0600
TZOFFSETTO:-0500
TZNAME:CDT
DTSTART:20220313T080000
END:DAYLIGHT
BEGIN:STANDARD
TZOFFSETFROM:-0500
TZOFFSETTO:-0600
TZNAME:CST
DTSTART:20221106T070000
END:STANDARD
END:VTIMEZONE
BEGIN:VEVENT
DTSTART;TZID=America/Chicago:20211007T080000
DTEND;TZID=America/Chicago:20211010T170000
DTSTAMP:20260422T065957
CREATED:20200517T223717Z
LAST-MODIFIED:20200715T031022Z
UID:2766-1633593600-1633885200@thebarnatallenacres.com
SUMMARY:Wedding
DESCRIPTION:Aliya per email May 17\, 2020
URL:https://thebarnatallenacres.com/event/wedding-pending-60/
END:VEVENT
BEGIN:VEVENT
DTSTART;TZID=America/Chicago:20211028T080000
DTEND;TZID=America/Chicago:20211128T170000
DTSTAMP:20260422T065957
CREATED:20210116T215126Z
LAST-MODIFIED:20210210T135351Z
UID:2866-1635408000-1638118800@thebarnatallenacres.com
SUMMARY:Wedding
DESCRIPTION:Coco and Kevin
URL:https://thebarnatallenacres.com/event/wedding-pending-64/
END:VEVENT
END:VCALENDAR