BEGIN:VCALENDAR
VERSION:2.0
PRODID:-//The Barn at Allen Acres - ECPv6.15.20//NONSGML v1.0//EN
CALSCALE:GREGORIAN
METHOD:PUBLISH
X-ORIGINAL-URL:https://thebarnatallenacres.com
X-WR-CALDESC:Events for The Barn at Allen Acres
REFRESH-INTERVAL;VALUE=DURATION:PT1H
X-Robots-Tag:noindex
X-PUBLISHED-TTL:PT1H
BEGIN:VTIMEZONE
TZID:America/Chicago
BEGIN:DAYLIGHT
TZOFFSETFROM:-0600
TZOFFSETTO:-0500
TZNAME:CDT
DTSTART:20200308T080000
END:DAYLIGHT
BEGIN:STANDARD
TZOFFSETFROM:-0500
TZOFFSETTO:-0600
TZNAME:CST
DTSTART:20201101T070000
END:STANDARD
BEGIN:DAYLIGHT
TZOFFSETFROM:-0600
TZOFFSETTO:-0500
TZNAME:CDT
DTSTART:20210314T080000
END:DAYLIGHT
BEGIN:STANDARD
TZOFFSETFROM:-0500
TZOFFSETTO:-0600
TZNAME:CST
DTSTART:20211107T070000
END:STANDARD
BEGIN:DAYLIGHT
TZOFFSETFROM:-0600
TZOFFSETTO:-0500
TZNAME:CDT
DTSTART:20220313T080000
END:DAYLIGHT
BEGIN:STANDARD
TZOFFSETFROM:-0500
TZOFFSETTO:-0600
TZNAME:CST
DTSTART:20221106T070000
END:STANDARD
END:VTIMEZONE
BEGIN:VEVENT
DTSTART;TZID=America/Chicago:20210902T080000
DTEND;TZID=America/Chicago:20210905T170000
DTSTAMP:20260422T084121
CREATED:20200716T141605Z
LAST-MODIFIED:20200716T141605Z
UID:2793-1630569600-1630861200@thebarnatallenacres.com
SUMMARY:Wedding
DESCRIPTION:Hilda and Jordan
URL:https://thebarnatallenacres.com/event/wedding-38/
END:VEVENT
BEGIN:VEVENT
DTSTART;TZID=America/Chicago:20210909T080000
DTEND;TZID=America/Chicago:20210912T170000
DTSTAMP:20260422T084121
CREATED:20210110T004856Z
LAST-MODIFIED:20210116T225346Z
UID:2863-1631174400-1631466000@thebarnatallenacres.com
SUMMARY:Wedding
DESCRIPTION:Matt and Jerrika
URL:https://thebarnatallenacres.com/event/wedding-pending-63/
END:VEVENT
BEGIN:VEVENT
DTSTART;TZID=America/Chicago:20210916T080000
DTEND;TZID=America/Chicago:20210919T170000
DTSTAMP:20260422T084121
CREATED:20200628T182417Z
LAST-MODIFIED:20200720T150809Z
UID:2785-1631779200-1632070800@thebarnatallenacres.com
SUMMARY:Wedding
DESCRIPTION:Sheri Mia \nvia tour 6/28/2020
URL:https://thebarnatallenacres.com/event/wedding-pending-61/
END:VEVENT
BEGIN:VEVENT
DTSTART;TZID=America/Chicago:20210923T080000
DTEND;TZID=America/Chicago:20210926T170000
DTSTAMP:20260422T084121
CREATED:20200822T172520Z
LAST-MODIFIED:20200916T154544Z
UID:2809-1632384000-1632675600@thebarnatallenacres.com
SUMMARY:Wedding
DESCRIPTION:Jordan (tour 8/22/2020)
URL:https://thebarnatallenacres.com/event/wedding-pending-53/
END:VEVENT
END:VCALENDAR