BEGIN:VCALENDAR
VERSION:2.0
PRODID:-//The Barn at Allen Acres - ECPv6.15.20//NONSGML v1.0//EN
CALSCALE:GREGORIAN
METHOD:PUBLISH
X-WR-CALNAME:The Barn at Allen Acres
X-ORIGINAL-URL:https://thebarnatallenacres.com
X-WR-CALDESC:Events for The Barn at Allen Acres
REFRESH-INTERVAL;VALUE=DURATION:PT1H
X-Robots-Tag:noindex
X-PUBLISHED-TTL:PT1H
BEGIN:VTIMEZONE
TZID:America/Chicago
BEGIN:DAYLIGHT
TZOFFSETFROM:-0600
TZOFFSETTO:-0500
TZNAME:CDT
DTSTART:20190310T080000
END:DAYLIGHT
BEGIN:STANDARD
TZOFFSETFROM:-0500
TZOFFSETTO:-0600
TZNAME:CST
DTSTART:20191103T070000
END:STANDARD
BEGIN:DAYLIGHT
TZOFFSETFROM:-0600
TZOFFSETTO:-0500
TZNAME:CDT
DTSTART:20200308T080000
END:DAYLIGHT
BEGIN:STANDARD
TZOFFSETFROM:-0500
TZOFFSETTO:-0600
TZNAME:CST
DTSTART:20201101T070000
END:STANDARD
BEGIN:DAYLIGHT
TZOFFSETFROM:-0600
TZOFFSETTO:-0500
TZNAME:CDT
DTSTART:20210314T080000
END:DAYLIGHT
BEGIN:STANDARD
TZOFFSETFROM:-0500
TZOFFSETTO:-0600
TZNAME:CST
DTSTART:20211107T070000
END:STANDARD
END:VTIMEZONE
BEGIN:VEVENT
DTSTART;TZID=America/Chicago:20200701T080000
DTEND;TZID=America/Chicago:20200809T170000
DTSTAMP:20260425T103620
CREATED:20191105T151857Z
LAST-MODIFIED:20191105T151857Z
UID:2708-1593590400-1596992400@thebarnatallenacres.com
SUMMARY:Unavailable
DESCRIPTION:
URL:https://thebarnatallenacres.com/event/unavailable-4/
END:VEVENT
BEGIN:VEVENT
DTSTART;TZID=America/Chicago:20200820T080000
DTEND;TZID=America/Chicago:20200823T170000
DTSTAMP:20260425T103620
CREATED:20190303T193427Z
LAST-MODIFIED:20190303T193427Z
UID:2638-1597910400-1598202000@thebarnatallenacres.com
SUMMARY:Wedding
DESCRIPTION:Amy and John
URL:https://thebarnatallenacres.com/event/wedding-29/
END:VEVENT
BEGIN:VEVENT
DTSTART;TZID=America/Chicago:20200827T080000
DTEND;TZID=America/Chicago:20200830T170000
DTSTAMP:20260425T103620
CREATED:20190331T172127Z
LAST-MODIFIED:20190427T125955Z
UID:2650-1598515200-1598806800@thebarnatallenacres.com
SUMMARY:Wedding
DESCRIPTION:Heidi and Grant via tour 3/31/19
URL:https://thebarnatallenacres.com/event/wedding-pending-54/
END:VEVENT
END:VCALENDAR